BEGIN:VCALENDAR
VERSION:2.0
PRODID:-//St Brigid&#039;s Parish Blanchardstown - ECPv6.2.8//NONSGML v1.0//EN
CALSCALE:GREGORIAN
METHOD:PUBLISH
X-WR-CALNAME:St Brigid&#039;s Parish Blanchardstown
X-ORIGINAL-URL:https://blanchardstownparish.actondev7.com
X-WR-CALDESC:Events for St Brigid&#039;s Parish Blanchardstown
REFRESH-INTERVAL;VALUE=DURATION:PT1H
X-Robots-Tag:noindex
X-PUBLISHED-TTL:PT1H
BEGIN:VTIMEZONE
TZID:Europe/Dublin
BEGIN:STANDARD
TZOFFSETFROM:+0000
TZOFFSETTO:+0100
TZNAME:IST
DTSTART:20230326T010000
END:STANDARD
BEGIN:DAYLIGHT
TZOFFSETFROM:+0100
TZOFFSETTO:+0000
TZNAME:GMT
DTSTART:20231029T010000
END:DAYLIGHT
END:VTIMEZONE
BEGIN:VEVENT
DTSTART;TZID=Europe/Dublin:20231212T100000
DTEND;TZID=Europe/Dublin:20231212T100000
DTSTAMP:20260421T103849
CREATED:20231115T101524Z
LAST-MODIFIED:20231115T101524Z
UID:12771-1702375200-1702375200@blanchardstownparish.actondev7.com
SUMMARY:Morning Mass
DESCRIPTION:
URL:https://blanchardstownparish.actondev7.com/event/morning-mass-16/
END:VEVENT
END:VCALENDAR