BEGIN:VCALENDAR
VERSION:2.0
PRODID:-//St Brigid&#039;s Parish Blanchardstown - ECPv6.2.8//NONSGML v1.0//EN
CALSCALE:GREGORIAN
METHOD:PUBLISH
X-ORIGINAL-URL:https://blanchardstownparish.actondev7.com
X-WR-CALDESC:Events for St Brigid&#039;s Parish Blanchardstown
REFRESH-INTERVAL;VALUE=DURATION:PT1H
X-Robots-Tag:noindex
X-PUBLISHED-TTL:PT1H
BEGIN:VTIMEZONE
TZID:Europe/Dublin
BEGIN:STANDARD
TZOFFSETFROM:+0000
TZOFFSETTO:+0100
TZNAME:IST
DTSTART:20230326T010000
END:STANDARD
BEGIN:DAYLIGHT
TZOFFSETFROM:+0100
TZOFFSETTO:+0000
TZNAME:GMT
DTSTART:20231029T010000
END:DAYLIGHT
END:VTIMEZONE
BEGIN:VEVENT
DTSTART;TZID=Europe/Dublin:20231222T100000
DTEND;TZID=Europe/Dublin:20231222T100000
DTSTAMP:20260422T225645
CREATED:20231115T102132Z
LAST-MODIFIED:20231115T102132Z
UID:12791-1703239200-1703239200@blanchardstownparish.actondev7.com
SUMMARY:Morning Mass
DESCRIPTION:
URL:https://blanchardstownparish.actondev7.com/event/morning-mass-22/
END:VEVENT
BEGIN:VEVENT
DTSTART;TZID=Europe/Dublin:20231223T180000
DTEND;TZID=Europe/Dublin:20231223T180000
DTSTAMP:20260422T225645
CREATED:20231115T102218Z
LAST-MODIFIED:20231115T102218Z
UID:12793-1703354400-1703354400@blanchardstownparish.actondev7.com
SUMMARY:Sunday Vigil Mass
DESCRIPTION:
URL:https://blanchardstownparish.actondev7.com/event/sunday-vigil-mass-6/
END:VEVENT
BEGIN:VEVENT
DTSTART;TZID=Europe/Dublin:20231224T103000
DTEND;TZID=Europe/Dublin:20231224T103000
DTSTAMP:20260422T225645
CREATED:20231115T102252Z
LAST-MODIFIED:20231115T102252Z
UID:12795-1703413800-1703413800@blanchardstownparish.actondev7.com
SUMMARY:Sunday Mass
DESCRIPTION:
URL:https://blanchardstownparish.actondev7.com/event/sunday-mass-5/
END:VEVENT
END:VCALENDAR